BEGIN:VCALENDAR
VERSION:2.0
PRODID:-//KTG Service Karlsruhe - ECPv5.14.0.1//NONSGML v1.0//EN
CALSCALE:GREGORIAN
METHOD:PUBLISH
X-WR-CALNAME:KTG Service Karlsruhe
X-ORIGINAL-URL:https://service-karlsruhe.de
X-WR-CALDESC:Veranstaltungen für KTG Service Karlsruhe
BEGIN:VTIMEZONE
TZID:Europe/Berlin
BEGIN:DAYLIGHT
TZOFFSETFROM:+0100
TZOFFSETTO:+0200
TZNAME:CEST
DTSTART:20210328T010000
END:DAYLIGHT
BEGIN:STANDARD
TZOFFSETFROM:+0200
TZOFFSETTO:+0100
TZNAME:CET
DTSTART:20211031T010000
END:STANDARD
END:VTIMEZONE
BEGIN:VEVENT
DTSTART;TZID=Europe/Berlin:20210922T110000
DTEND;TZID=Europe/Berlin:20210922T120000
DTSTAMP:20260420T115650
CREATED:20210917T104433Z
LAST-MODIFIED:20211115T113432Z
UID:177-1632308400-1632312000@service-karlsruhe.de
SUMMARY:Convention Bureau Karlsruhe „Getestet\, Geimpft\, Genesen – die 3 G‘s in der Eventbranche“
DESCRIPTION:Nach der erfolgreichen Anmeldung erhalten Sie eine Bestätigungsmail. \nDen Zoom- Zugangslink senden wir Ihnen direkt nach der erfolgreichen Anmeldung zu.
URL:https://service-karlsruhe.de/event/convention-bureau-karlsruhe-3g/
CATEGORIES:Convention Bureau
ORGANIZER;CN="Convention%20Bureau%20Karlsruhe":MAILTO:pk@100pro-mice.de
END:VEVENT
END:VCALENDAR